Back to the "Multiple platform build/check report"
| Package 162/234 | Hostname | OS | Arch | BUILD | CHECK | BUILD BIN |
| pgUtils 1.10.0 Johannes Rainer Last Changed Date: 2007-10-02 17:41:09 -0700 Last Changed Rev: 27709 | lamb1 | Linux (SUSE 10.1) | x86_64 | [ OK ] | OK | |
| wellington | Linux (SUSE 9.2) | i686 | OK | OK | ||
| liverpool | Windows Server 2003 R2 (32-bit) | x64 | N O T S U P P O R T E D | |||
| pitt | Mac OS X (10.4.10) | i386 | OK | OK | OK | |
| Package: pgUtils |
| Version: 1.10.0 |
| Command: /home/biocbuild/bbs-2.1-bioc/R/bin/R CMD build pgUtils |
| RetCode: 0 |
| Time: 0.5 seconds |
| Status: OK |
| PackageFile: pgUtils_1.10.0.tar.gz |
* checking for file 'pgUtils/DESCRIPTION' ... OK * preparing 'pgUtils': * checking DESCRIPTION meta-information ... OK * removing junk files * checking for LF line-endings in source and make files * checking for empty or unneeded directories * building 'pgUtils_1.10.0.tar.gz'