| MergeMaid 2.10.0 Xiaogang Zhong
 
 | Snapshot Date: 2008-04-02 12:12:36 -0700 (Wed, 02 Apr 2008) |  | URL: https://hedgehog.fhcrc.org/bioconductor/branches/RELEASE_2_1/madman/Rpacks/MergeMaid |  | Last Changed Rev: 27709 / Revision: 30807 |  | Last Changed Date: 2007-10-02 17:41:09 -0700 (Tue, 02 Oct 2007) | 
 | lamb1 | Linux (SUSE 10.1) / x86_64 | OK | OK |  | 
| wilson2 | Linux (openSUSE 10.3) / x86_64 | [ OK ] | OK |  | 
| wellington | Linux (openSUSE 10.3) / i686 | OK | OK |  | 
| liverpool | Windows Server 2003 R2 (32-bit) / x64 | OK | OK | OK | 
| lemming | Windows Server 2003 (32-bit) / x64 | OK | OK | OK | 
| pitt | Mac OS X Tiger (10.4.11) / i386 | OK | OK | OK | 
* checking for file 'MergeMaid/DESCRIPTION' ... OK
* preparing 'MergeMaid':
* checking DESCRIPTION meta-information ... OK
* checking whether 'INDEX' is up-to-date ... NO
* use '--force' to overwrite the existing 'INDEX'
* installing the package to re-build vignettes
* Installing *source* package 'MergeMaid' ...
** R
** data
** inst
** preparing package for lazy loading
Loading required package: survival
Loading required package: splines
Loading required package: Biobase
Loading required package: tools
Welcome to Bioconductor
  Vignettes contain introductory material. To view, type
  'openVignette()'. To cite Bioconductor, see
  'citation("Biobase")' and for packages 'citation(pkgname)'.
Loading required package: MASS
Creating a new generic function for "plot" in "MergeMaid"
Creating a new generic function for "hist" in "MergeMaid"
Creating a new generic function for "summary" in "MergeMaid"
** help
 >>> Building/Updating help pages for package 'MergeMaid'
     Formats: text html latex example 
  class.mergeCoeff                  text    html    latex   example
  class.mergeCor                    text    html    latex   example
  class.mergeExpressionSet          text    html    latex   example
  intCor                            text    html    latex   example
  intcorDens                        text    html    latex   example
  intersection                      text    html    latex   example
  mergeData                         text    html    latex
  mergeExprs                        text    html    latex   example
  modelOutcome                      text    html    latex   example
** building package indices ...
* DONE (MergeMaid)
* creating vignettes ... OK
* removing junk files
* checking for LF line-endings in source and make files
* checking for empty or unneeded directories
* building 'MergeMaid_2.10.0.tar.gz'