| diffGeneAnalysis 1.20.0 Choudary Jagarlamudi
 
 | Snapshot Date: 2008-04-02 12:12:36 -0700 (Wed, 02 Apr 2008) |  | URL: https://hedgehog.fhcrc.org/bioconductor/branches/RELEASE_2_1/madman/Rpacks/diffGeneAnalysis |  | Last Changed Rev: 27709 / Revision: 30807 |  | Last Changed Date: 2007-10-02 17:41:09 -0700 (Tue, 02 Oct 2007) | 
 | lamb1 | Linux (SUSE 10.1) / x86_64 | OK | OK |  | 
| wilson2 | Linux (openSUSE 10.3) / x86_64 | OK | OK |  | 
| wellington | Linux (openSUSE 10.3) / i686 | OK | OK |  | 
| liverpool | Windows Server 2003 R2 (32-bit) / x64 | [ OK ] | OK | OK | 
| lemming | Windows Server 2003 (32-bit) / x64 | OK | OK | OK | 
| pitt | Mac OS X Tiger (10.4.11) / i386 | OK | OK | OK | 
* checking for file 'diffGeneAnalysis/DESCRIPTION' ... OK
* preparing 'diffGeneAnalysis':
* checking DESCRIPTION meta-information ... OK
* installing the package to re-build vignettes
installing R.css in E:/biocbld/bbs-2.1-bioc/tmpdir/Rinst553245028
---------- Making package diffGeneAnalysis ------------
  adding build stamp to DESCRIPTION
  installing R files
  installing inst files
  installing data files
  installing man source files
  installing indices
  not zipping data
  installing help
 >>> Building/Updating help pages for package 'diffGeneAnalysis'
     Formats: text html latex example chm 
  assocAnalysis                     text    html    latex   example chm
  biasAdjust                        text    html    latex   example chm
  curveFit                          text    html    latex   example chm
  dataTrim                          text    html    latex   example chm
  normalize                         text    html    latex   example chm
  rawdata                           text    html    latex   example chm
  refGroup                          text    html    latex   example chm
Microsoft HTML Help Compiler 4.74.8702
Compiling e:\biocbld\bbs-2.1-bioc\meat\diffGeneAnalysis\chm\diffGeneAnalysis.chm
Compile time: 0 minutes, 0 seconds
8	Topics
7	Local links
0	Internet links
1	Graphic
Created e:\biocbld\bbs-2.1-bioc\meat\diffGeneAnalysis\chm\diffGeneAnalysis.chm, 32,245 bytes
Compression decreased file by 2,910 bytes.
  adding MD5 sums
* DONE (diffGeneAnalysis)
* creating vignettes ... OK
* removing junk files
* excluding invalid files from 'diffGeneAnalysis'
Subdirectory 'R' contains invalid file names:
  diffGeneAnalysis
Subdirectory 'man' contains invalid file names:
  README
* checking for LF line-endings in source and make files
* checking for empty or unneeded directories
* building 'diffGeneAnalysis_1.20.0.tar.gz'