| Back to the "Multiple platform build/check report" |
| Package 4/55 | Hostname | OS / Arch | BUILD | CHECK | BUILD BIN | ||||
| ALLMLL 1.2.2 B. M. Bolstad
| lamb1 | Linux (SUSE 10.1) / x86_64 | OK | OK | |||||
| lemming | Windows Server 2003 (32-bit) / x64 | [ OK ] | OK | OK | |||||
| pitt | Mac OS X Tiger (10.4.11) / i386 | OK | OK | OK |
| Package: ALLMLL |
| Version: 1.2.2 |
| Command: D:\biocbld\bbs-2.1-bioc\R\bin\R.exe CMD build ALLMLL |
| StartedAt: 2008-04-10 01:18:34 -0700 (Thu, 10 Apr 2008) |
| EndedAt: 2008-04-10 01:19:01 -0700 (Thu, 10 Apr 2008) |
| EllapsedTime: 26.4 seconds |
| RetCode: 0 |
| Status: OK |
| PackageFile: ALLMLL_1.2.2.tar.gz |
| PackageFileSize: 37.54 MiB |
* checking for file 'ALLMLL/DESCRIPTION' ... OK * preparing 'ALLMLL': * checking DESCRIPTION meta-information ... OK * removing junk files * checking for LF line-endings in source and make files * checking for empty or unneeded directories * building 'ALLMLL_1.2.2.tar.gz'