| Back to the "Multiple platform build/check report" |
| Package 9/55 | Hostname | OS / Arch | BUILD | CHECK | BUILD BIN | ||||
| CLL 1.2.4 Robert Gentleman
| lamb1 | Linux (SUSE 10.1) / x86_64 | [ OK ] | OK | |||||
| lemming | Windows Server 2003 (32-bit) / x64 | OK | OK | OK | |||||
| pitt | Mac OS X Tiger (10.4.11) / i386 | OK | OK | OK |
| Package: CLL |
| Version: 1.2.4 |
| Command: /home/biocbuild/bbs-2.1-bioc/R/bin/R CMD build CLL |
| StartedAt: 2008-04-10 00:50:50 -0700 (Thu, 10 Apr 2008) |
| EndedAt: 2008-04-10 00:50:53 -0700 (Thu, 10 Apr 2008) |
| EllapsedTime: 3.1 seconds |
| RetCode: 0 |
| Status: OK |
| PackageFile: CLL_1.2.4.tar.gz |
| PackageFileSize: 22.08 MiB |
* checking for file 'CLL/DESCRIPTION' ... OK * preparing 'CLL': * checking DESCRIPTION meta-information ... OK * removing junk files * checking for LF line-endings in source and make files * checking for empty or unneeded directories * building 'CLL_1.2.4.tar.gz'