| Back to the "Multiple platform build/check report" |
| Package 48/55 | Hostname | OS / Arch | BUILD | CHECK | BUILD BIN | ||||
| SpikeInSubset 1.2.6 Rafael A. Irizarry
| lamb1 | Linux (SUSE 10.1) / x86_64 | [ OK ] | OK | |||||
| lemming | Windows Server 2003 (32-bit) / x64 | OK | OK | OK | |||||
| pitt | Mac OS X Tiger (10.4.11) / i386 | OK | OK | OK |
| Package: SpikeInSubset |
| Version: 1.2.6 |
| Command: /home/biocbuild/bbs-2.1-bioc/R/bin/R CMD build SpikeInSubset |
| StartedAt: 2008-04-10 00:56:20 -0700 (Thu, 10 Apr 2008) |
| EndedAt: 2008-04-10 00:56:24 -0700 (Thu, 10 Apr 2008) |
| EllapsedTime: 4.2 seconds |
| RetCode: 0 |
| Status: OK |
| PackageFile: SpikeInSubset_1.2.6.tar.gz |
| PackageFileSize: 18.01 MiB |
* checking for file 'SpikeInSubset/DESCRIPTION' ... OK * preparing 'SpikeInSubset': * checking DESCRIPTION meta-information ... OK * removing junk files * checking for LF line-endings in source and make files * checking for empty or unneeded directories * building 'SpikeInSubset_1.2.6.tar.gz'