| Back to the "Multiple platform build/check report" |
| Package 22/55 | Hostname | OS / Arch | BUILD | CHECK | BUILD BIN | ||||
| hapmap100kxba 1.3 Benilton Carvalho
| lamb1 | Linux (SUSE 10.1) / x86_64 | [ OK ] | OK | |||||
| lemming | Windows Server 2003 (32-bit) / x64 | OK | OK | OK | |||||
| pitt | Mac OS X Tiger (10.4.11) / i386 | OK | OK | OK |
| Package: hapmap100kxba |
| Version: 1.3 |
| Command: /home/biocbuild/bbs-2.1-bioc/R/bin/R CMD build hapmap100kxba |
| StartedAt: 2008-04-10 00:56:35 -0700 (Thu, 10 Apr 2008) |
| EndedAt: 2008-04-10 00:57:57 -0700 (Thu, 10 Apr 2008) |
| EllapsedTime: 82.3 seconds |
| RetCode: 0 |
| Status: OK |
| PackageFile: hapmap100kxba_1.3.tar.gz |
| PackageFileSize: 38.99 MiB |
* checking for file 'hapmap100kxba/DESCRIPTION' ... OK * preparing 'hapmap100kxba': * checking DESCRIPTION meta-information ... OK * removing junk files * checking for LF line-endings in source and make files * checking for empty or unneeded directories * building 'hapmap100kxba_1.3.tar.gz'