| Back to the "Multiple platform build/check report" |
| Package 25/55 | Hostname | OS / Arch | BUILD | CHECK | BUILD BIN | ||||
| hapmapsnp5 1.3 Benilton Carvalho
| lamb1 | Linux (SUSE 10.1) / x86_64 | OK | OK | |||||
| lemming | Windows Server 2003 (32-bit) / x64 | [ OK ] | OK | OK | |||||
| pitt | Mac OS X Tiger (10.4.11) / i386 | OK | OK | OK |
| Package: hapmapsnp5 |
| Version: 1.3 |
| Command: D:\biocbld\bbs-2.1-bioc\R\bin\R.exe CMD build hapmapsnp5 |
| StartedAt: 2008-04-10 02:04:30 -0700 (Thu, 10 Apr 2008) |
| EndedAt: 2008-04-10 02:09:18 -0700 (Thu, 10 Apr 2008) |
| EllapsedTime: 287.6 seconds |
| RetCode: 0 |
| Status: OK |
| PackageFile: hapmapsnp5_1.3.tar.gz |
| PackageFileSize: 59.41 MiB |
* checking for file 'hapmapsnp5/DESCRIPTION' ... OK * preparing 'hapmapsnp5': * checking DESCRIPTION meta-information ... OK * removing junk files * checking for LF line-endings in source and make files * checking for empty or unneeded directories * building 'hapmapsnp5_1.3.tar.gz'