| oneChannelGUI 1.22.12 Raffaele A Calogero
 
 | Snapshot Date: 2012-09-23 17:01:39 -0700 (Sun, 23 Sep 2012) |  | URL: https://hedgehog.fhcrc.org/bioconductor/branches/RELEASE_2_10/madman/Rpacks/oneChannelGUI |  | Last Changed Rev: 68826 / Revision: 69725 |  | Last Changed Date: 2012-08-26 09:45:40 -0700 (Sun, 26 Aug 2012) | 
 | lamb2 | Linux (openSUSE 11.4) / x86_64 | OK | OK |  | 
| moscato2 | Windows Server 2008 R2 Enterprise SP1 (64-bit) / x64 | OK | OK | [ OK ] | 
| petty | Mac OS X Leopard (10.5.8) / i386 | OK | OK | OK | 
install for i386
* installing *source* package 'oneChannelGUI' ...
** R
** data
** inst
** preparing package for lazy loading
** help
*** installing help indices
** building package indices
** installing vignettes
   'Exon-level.analysis.Rnw' 
   'RNAseq.Rnw' 
   'gene-level.analysis.Rnw' 
   'install.Rnw' 
   'standAloneFunctions.Rnw' 
** testing if installed package can be loaded
install for x64
* installing *source* package 'oneChannelGUI' ...
** testing if installed package can be loaded
* MD5 sums
packaged installation of 'oneChannelGUI' as oneChannelGUI_1.22.12.zip
* DONE (oneChannelGUI)