| Back to the "Multiple platform build/check report" | 
| Package 58/122 | Hostname | OS / Arch | BUILD | CHECK | BUILD BIN | ||||
| hapmap500ksty 1.3.6 Benilton Carvalho 
  | lamb2 | Linux (openSUSE 11.4) / x86_64 | OK | OK | |||||
| moscato2 | Windows Server 2008 R2 Enterprise SP1 (64-bit) / x64 | OK | OK | OK | |||||
| petty | Mac OS X Leopard (10.5.8) / i386 | [ OK ] | OK | OK | 
| Package: hapmap500ksty | 
| Version: 1.3.6 | 
| Command: /Library/Frameworks/R.framework/Versions/2.15/Resources/bin/R CMD build --keep-empty-dirs --no-resave-data hapmap500ksty | 
| StartedAt: 2012-09-23 11:51:12 -0700 (Sun, 23 Sep 2012) | 
| EndedAt: 2012-09-23 11:52:52 -0700 (Sun, 23 Sep 2012) | 
| EllapsedTime: 100.2 seconds | 
| RetCode: 0 | 
| Status: OK | 
| PackageFile: hapmap500ksty_1.3.6.tar.gz | 
| PackageFileSize: 80.21 MiB | 
* checking for file 'hapmap500ksty/DESCRIPTION' ... OK * preparing 'hapmap500ksty': * checking DESCRIPTION meta-information ... OK * checking for LF line-endings in source and make files * checking for empty or unneeded directories * building 'hapmap500ksty_1.3.6.tar.gz'