| Back to the "Multiple platform build/check report" |
| Package 99/133 | Hostname | OS / Arch | BUILD | CHECK | BUILD BIN | ||||
| pasillaBamSubset 0.0.6 H. Pages
| lamb1 | Linux (openSUSE 12.1) / x86_64 | OK | OK | |||||
| moscato1 | Windows Server 2008 R2 Enterprise SP1 (64-bit) / x64 | [ OK ] | OK | OK | |||||
| perceval | Mac OS X Leopard (10.5.8) / i386 | OK | OK | OK |
| Package: pasillaBamSubset |
| Version: 0.0.6 |
| Command: chmod a+r pasillaBamSubset -R && D:\biocbld\bbs-2.11-bioc\R\bin\R.exe CMD build --keep-empty-dirs --no-resave-data pasillaBamSubset |
| StartedAt: 2013-03-24 11:39:13 -0700 (Sun, 24 Mar 2013) |
| EndedAt: 2013-03-24 11:39:33 -0700 (Sun, 24 Mar 2013) |
| EllapsedTime: 19.8 seconds |
| RetCode: 0 |
| Status: OK |
| PackageFile: pasillaBamSubset_0.0.6.tar.gz |
| PackageFileSize: 15.03 MiB |
* checking for file 'pasillaBamSubset/DESCRIPTION' ... OK * preparing 'pasillaBamSubset': * checking DESCRIPTION meta-information ... OK * checking for LF line-endings in source and make files * checking for empty or unneeded directories * building 'pasillaBamSubset_0.0.6.tar.gz'