| bronchialIL13 1.0.12 Vince Carey
 
 | Snapshot Date: 2014-04-04 06:15:32 -0700 (Fri, 04 Apr 2014) |  | URL: https://hedgehog.fhcrc.org/bioc-data/branches/RELEASE_2_13/experiment/pkgs/bronchialIL13 |  | Last Changed Rev: 2533 / Revision: 2768 |  | Last Changed Date: 2013-10-14 15:00:20 -0700 (Mon, 14 Oct 2013) | 
 | zin1 | Linux (Ubuntu 12.04.4 LTS) / x86_64 | [ OK ] | OK |  | 
| moscato1 | Windows Server 2008 R2 Enterprise SP1 (64-bit) / x64 | OK | OK | OK | 
| perceval | Mac OS X Snow Leopard (10.6.8) / x86_64 | OK | OK | OK | 
* checking for file ‘bronchialIL13/DESCRIPTION’ ... OK
* preparing ‘bronchialIL13’:
* checking DESCRIPTION meta-information ... OK
* checking for LF line-endings in source and make files
* checking for empty or unneeded directories
* looking to see if a ‘data/datalist’ file should be added
* building ‘bronchialIL13_1.0.12.tar.gz’