| Back to the "Multiple platform build/check report" |
This page was generated on 2014-04-04 17:28:48 -0700 (Fri, 04 Apr 2014).
| Package 81/181 | Hostname | OS / Arch | BUILD | CHECK | BUILD BIN | ||||
| hapmap500ksty 1.4.3 Benilton Carvalho
| zin1 | Linux (Ubuntu 12.04.4 LTS) / x86_64 | [ OK ] | OK | |||||
| moscato1 | Windows Server 2008 R2 Enterprise SP1 (64-bit) / x64 | OK | OK | OK | |||||
| perceval | Mac OS X Snow Leopard (10.6.8) / x86_64 | OK | OK | OK |
| Package: hapmap500ksty |
| Version: 1.4.3 |
| Command: /home/biocbuild/bbs-2.13-bioc/R/bin/R CMD build --keep-empty-dirs --no-resave-data hapmap500ksty |
| StartedAt: 2014-04-04 08:10:49 -0700 (Fri, 04 Apr 2014) |
| EndedAt: 2014-04-04 08:14:41 -0700 (Fri, 04 Apr 2014) |
| EllapsedTime: 231.9 seconds |
| RetCode: 0 |
| Status: OK |
| PackageFile: hapmap500ksty_1.4.3.tar.gz |
| PackageFileSize: 77.63 MiB |
* checking for file ‘hapmap500ksty/DESCRIPTION’ ... OK * preparing ‘hapmap500ksty’: * checking DESCRIPTION meta-information ... OK * checking for LF line-endings in source and make files * checking for empty or unneeded directories * building ‘hapmap500ksty_1.4.3.tar.gz’