| CORREP 1.5.0 Dongxiao Zhu
 
 | Snapshot Date: 2007-12-11 00:09:07 -0800 (Tue, 11 Dec 2007) |  | URL: https://hedgehog.fhcrc.org/bioconductor/trunk/madman/Rpacks/CORREP |  | Last Changed Rev: 27716 / Revision: 29143 |  | Last Changed Date: 2007-10-02 18:16:39 -0700 (Tue, 02 Oct 2007) | 
 | lamb1 | Linux (SUSE 10.1) / x86_64 | OK | OK |  | 
| wilson2 | Linux (openSUSE 10.3) / x86_64 | [ OK ] | OK |  | 
| wellington | Linux (openSUSE 10.3) / i686 | OK | OK |  | 
| liverpool | Windows Server 2003 R2 (32-bit) / x64 | OK | OK | OK | 
| lemming | Windows Server 2003 (32-bit) / x64 | OK | OK | OK | 
* checking for file 'CORREP/DESCRIPTION' ... OK
* preparing 'CORREP':
* checking DESCRIPTION meta-information ... OK
* installing the package to re-build vignettes
/tmp/Rinst681876809
* Installing *source* package 'CORREP' ...
** R
** data
** inst
** help
Note: removing empty section \examples
 >>> Building/Updating help pages for package 'CORREP'
     Formats: text html latex example 
  CORREP-package                    text    html    latex
  cor.LRtest                        text    html    latex   example
  cor.LRtest.std                    text    html    latex   example
  cor.balance                       text    html    latex   example
  cor.bootci                        text    html    latex   example
  cor.unbalance                     text    html    latex   example
  gal_all                           text    html    latex   example
  permutest                         text    html    latex   example
  true.member                       text    html    latex   example
** building package indices ...
* DONE (CORREP)
* creating vignettes ... OK
* removing junk files
* checking for LF line-endings in source and make files
* checking for empty or unneeded directories
* building 'CORREP_1.5.0.tar.gz'