| Rintact 1.1.4 Tony Chiang
 
 | Snapshot Date: 2007-12-11 00:09:07 -0800 (Tue, 11 Dec 2007) |  | URL: https://hedgehog.fhcrc.org/bioconductor/trunk/madman/Rpacks/Rintact |  | Last Changed Rev: 28674 / Revision: 29143 |  | Last Changed Date: 2007-11-13 05:30:16 -0800 (Tue, 13 Nov 2007) | 
 | lamb1 | Linux (SUSE 10.1) / x86_64 | OK | OK |  | 
| wilson2 | Linux (openSUSE 10.3) / x86_64 | [ OK ] | OK |  | 
| wellington | Linux (openSUSE 10.3) / i686 | OK | OK |  | 
| liverpool | Windows Server 2003 R2 (32-bit) / x64 | ERROR | skipped | skipped | 
| lemming | Windows Server 2003 (32-bit) / x64 | ERROR | skipped | skipped | 
* checking for file 'Rintact/DESCRIPTION' ... OK
* preparing 'Rintact':
* checking DESCRIPTION meta-information ... OK
* installing the package to re-build vignettes
/tmp/Rinst1075343503
* Installing *source* package 'Rintact' ...
** R
** inst
** preparing package for lazy loading
Loading required package: Biobase
Loading required package: tools
Welcome to Bioconductor
  Vignettes contain introductory material. To view, type
  'openVignette()'. To cite Bioconductor, see
  'citation("Biobase")' and for packages 'citation(pkgname)'.
Loading required package: XML
Loading required package: graph
Loading required package: hypergraph
** help
Note: removing empty section \references
 >>> Building/Updating help pages for package 'Rintact'
     Formats: text html latex example 
  bait                              text    html    latex   example
  complexEntry                      text    html    latex
  complexes                         text    html    latex   example
  eListHandler                      text    html    latex   example
  intactComplex                     text    html    latex
  intactGraph                       text    html    latex
  intactHyperGraph                  text    html    latex
  intactInteraction                 text    html    latex
  intactXML2Graph                   text    html    latex   example
  interactionEntry                  text    html    latex
  interactions                      text    html    latex   example
  interactors                       text    html    latex   example
  list2Matrix                       text    html    latex   example
  organismName                      text    html    latex   example
  prey                              text    html    latex   example
  psi25interaction                  text    html    latex   example
  releaseDate                       text    html    latex   example
  taxId                             text    html    latex   example
  translateIntactID                 text    html    latex   example
** building package indices ...
* DONE (Rintact)
* creating vignettes ... OK
* removing junk files
* checking for LF line-endings in source and make files
* checking for empty or unneeded directories
* building 'Rintact_1.1.4.tar.gz'