| lapmix 1.5.2 Yann Ruffieux
 
 | Snapshot Date: 2007-12-11 00:09:07 -0800 (Tue, 11 Dec 2007) |  | URL: https://hedgehog.fhcrc.org/bioconductor/trunk/madman/Rpacks/lapmix |  | Last Changed Rev: 27837 / Revision: 29143 |  | Last Changed Date: 2007-10-08 06:25:10 -0700 (Mon, 08 Oct 2007) | 
 | lamb1 | Linux (SUSE 10.1) / x86_64 | OK | OK |  | 
| wilson2 | Linux (openSUSE 10.3) / x86_64 | OK | OK |  | 
| wellington | Linux (openSUSE 10.3) / i686 | OK | OK |  | 
| liverpool | Windows Server 2003 R2 (32-bit) / x64 | OK | OK | OK | 
| lemming | Windows Server 2003 (32-bit) / x64 | OK | OK | [ OK ] | 
installing R.css in D:/biocbld/bbs-2.2-bioc/meat/lapmix.buildbin-libdir
Using auto-selected zip options ''
---------- Making package lapmix ------------
  adding build stamp to DESCRIPTION
  installing R files
  installing inst files
  installing man source files
  installing indices
  installing help
 >>> Building/Updating help pages for package 'lapmix'
     Formats: text html latex example chm 
  lap.volcanoplot                   text    html    latex   example chm
  lapmix-internal                   text    html    latex           chm
  lapmix.Fit                        text    html    latex   example chm
  laptopTable                       text    html    latex   example chm
Microsoft HTML Help Compiler 4.74.8702
Compiling d:\biocbld\bbs-2.2-bioc\meat\R.INSTALL.4228\lapmix\chm\lapmix.chm
Compile time: 0 minutes, 0 seconds
5	Topics
7	Local links
0	Internet links
1	Graphic
Created d:\biocbld\bbs-2.2-bioc\meat\R.INSTALL.4228\lapmix\chm\lapmix.chm, 22,005 bytes
Compression increased file by 4,063 bytes.
  adding MD5 sums
packaged installation of package 'lapmix' as lapmix_1.5.2.zip
* DONE (lapmix)