| metaArray 1.13.0 Hyungwon Choi
 
 | Snapshot Date: 2007-12-11 00:09:07 -0800 (Tue, 11 Dec 2007) |  | URL: https://hedgehog.fhcrc.org/bioconductor/trunk/madman/Rpacks/metaArray |  | Last Changed Rev: 27716 / Revision: 29143 |  | Last Changed Date: 2007-10-02 18:16:39 -0700 (Tue, 02 Oct 2007) | 
 | lamb1 | Linux (SUSE 10.1) / x86_64 | OK | OK |  | 
| wilson2 | Linux (openSUSE 10.3) / x86_64 | [ OK ] | OK |  | 
| wellington | Linux (openSUSE 10.3) / i686 | OK | OK |  | 
| liverpool | Windows Server 2003 R2 (32-bit) / x64 | OK | OK | OK | 
| lemming | Windows Server 2003 (32-bit) / x64 | OK | OK | OK | 
* checking for file 'metaArray/DESCRIPTION' ... OK
* preparing 'metaArray':
* checking DESCRIPTION meta-information ... OK
* cleaning src
* installing the package to re-build vignettes
/tmp/Rinst207338330
* Installing *source* package 'metaArray' ...
** libs
gcc -std=gnu99 -I/home/biocbuild/bbs-2.2-bioc/R/include -I/home/biocbuild/bbs-2.2-bioc/R/include  -I/usr/local/include   -DUSEDOUBLE -fpic  -g -O2 -Wall -c contr.c -o contr.o
gcc -std=gnu99 -I/home/biocbuild/bbs-2.2-bioc/R/include -I/home/biocbuild/bbs-2.2-bioc/R/include  -I/usr/local/include   -DUSEDOUBLE -fpic  -g -O2 -Wall -c dproc2.c -o dproc2.o
gcc -std=gnu99 -I/home/biocbuild/bbs-2.2-bioc/R/include -I/home/biocbuild/bbs-2.2-bioc/R/include  -I/usr/local/include   -DUSEDOUBLE -fpic  -g -O2 -Wall -c dproc.c -o dproc.o
gcc -std=gnu99 -I/home/biocbuild/bbs-2.2-bioc/R/include -I/home/biocbuild/bbs-2.2-bioc/R/include  -I/usr/local/include   -DUSEDOUBLE -fpic  -g -O2 -Wall -c intcor.c -o intcor.o
gcc -std=gnu99 -I/home/biocbuild/bbs-2.2-bioc/R/include -I/home/biocbuild/bbs-2.2-bioc/R/include  -I/usr/local/include   -DUSEDOUBLE -fpic  -g -O2 -Wall -c lowess.c -o lowess.o
gcc -std=gnu99 -I/home/biocbuild/bbs-2.2-bioc/R/include -I/home/biocbuild/bbs-2.2-bioc/R/include  -I/usr/local/include   -DUSEDOUBLE -fpic  -g -O2 -Wall -c mmath.c -o mmath.o
gcc -std=gnu99 -I/home/biocbuild/bbs-2.2-bioc/R/include -I/home/biocbuild/bbs-2.2-bioc/R/include  -I/usr/local/include   -DUSEDOUBLE -fpic  -g -O2 -Wall -c perm.c -o perm.o
gcc -std=gnu99 -I/home/biocbuild/bbs-2.2-bioc/R/include -I/home/biocbuild/bbs-2.2-bioc/R/include  -I/usr/local/include   -DUSEDOUBLE -fpic  -g -O2 -Wall -c poe.c -o poe.o
poe.c: In function ‘poe_one_iter’:
poe.c:431: warning: suggest parentheses around comparison in operand of &
poe.c:437: warning: suggest parentheses around comparison in operand of &
poe.c:438: warning: suggest parentheses around comparison in operand of |
gcc -std=gnu99 -shared -L/usr/local/lib64 -o metaArray.so contr.o dproc2.o dproc.o intcor.o lowess.o mmath.o perm.o poe.o -lm  -L/home/biocbuild/bbs-2.2-bioc/R/lib -lR
** R
** data
** inst
** help
Note: removing empty section \examples
Note: removing empty section \examples
Note: removing empty section \examples
Note: removing empty section \examples
 >>> Building/Updating help pages for package 'metaArray'
     Formats: text html latex example 
  Zscore                            text    html    latex   example
  em.draw                           text    html    latex
  find.init                         text    html    latex
  fit.em                            text    html    latex
  intcor                            text    html    latex   example
  logit                             text    html    latex
  mdata                             text    html    latex
  poe.em                            text    html    latex
  poe.mcmc                          text    html    latex   example
** building package indices ...
* DONE (metaArray)
* creating vignettes ... OK
* cleaning src
* removing junk files
* excluding invalid files from 'metaArray'
Subdirectory 'man' contains invalid file names:
  pkg.log README
* checking for LF line-endings in source and make files
* checking for empty or unneeded directories
* building 'metaArray_1.13.0.tar.gz'