| timecourse 1.11.0 Yu Chuan Tai
 
 | Snapshot Date: 2007-12-11 00:09:07 -0800 (Tue, 11 Dec 2007) |  | URL: https://hedgehog.fhcrc.org/bioconductor/trunk/madman/Rpacks/timecourse |  | Last Changed Rev: 28301 / Revision: 29143 |  | Last Changed Date: 2007-10-29 18:15:54 -0700 (Mon, 29 Oct 2007) | 
 | lamb1 | Linux (SUSE 10.1) / x86_64 | OK | OK |  | 
| wilson2 | Linux (openSUSE 10.3) / x86_64 | OK | OK |  | 
| wellington | Linux (openSUSE 10.3) / i686 | OK | OK |  | 
| liverpool | Windows Server 2003 R2 (32-bit) / x64 | OK | OK | OK | 
| lemming | Windows Server 2003 (32-bit) / x64 | [ OK ] | OK | OK | 
* checking for file 'timecourse/DESCRIPTION' ... OK
* preparing 'timecourse':
* checking DESCRIPTION meta-information ... OK
* installing the package to re-build vignettes
installing R.css in D:/biocbld/bbs-2.2-bioc/tmpdir/Rinst152037445
---------- Making package timecourse ------------
  adding build stamp to DESCRIPTION
  installing R files
  installing inst files
  installing data files
  preparing package timecourse for lazy loading
Loading required package: limma
Loading required package: MASS
Loading required package: Biobase
Loading required package: tools
Welcome to Bioconductor
  Vignettes contain introductory material. To view, type
  'openVignette()'. To cite Bioconductor, see
  'citation("Biobase")' and for packages 'citation(pkgname)'.
  installing man source files
  installing indices
  not zipping data
  installing help
 >>> Building/Updating help pages for package 'timecourse'
     Formats: text html latex example chm 
  abs2ratio                         text    html    latex           chm
  fruitfly                          text    html    latex           chm
  marrayTC-class                    text    html    latex           chm
  matrix.cov                        text    html    latex           chm
  mb.MANOVA                         text    html    latex   example chm
  mb.long                           text    html    latex   example chm
  ot.helmert                        text    html    latex           chm
  plotProfile                       text    html    latex           chm
  univ.func                         text    html    latex           chm
Microsoft HTML Help Compiler 4.74.8702
Compiling d:\biocbld\bbs-2.2-bioc\meat\timecourse\chm\timecourse.chm
Compile time: 0 minutes, 0 seconds
10	Topics
27	Local links
2	Internet links
1	Graphic
Created d:\biocbld\bbs-2.2-bioc\meat\timecourse\chm\timecourse.chm, 35,023 bytes
Compression decreased file by 16,493 bytes.
  adding MD5 sums
* DONE (timecourse)
* creating vignettes ... OK
* removing junk files
* checking for LF line-endings in source and make files
* checking for empty or unneeded directories
* building 'timecourse_1.11.0.tar.gz'