EBarrays 2.3.1 Ming Yuan
 | Snapshot Date: 2008-04-09 00:13:10 -0700 (Wed, 09 Apr 2008) |  | URL: https://hedgehog.fhcrc.org/bioconductor/trunk/madman/Rpacks/EBarrays |  | Last Changed Rev: 30639 / Revision: 30951 |  | Last Changed Date: 2008-03-24 10:46:05 -0700 (Mon, 24 Mar 2008) |  
  | lamb1  | Linux (SUSE 10.1) / x86_64  | [ OK ] |  OK  |  | 
| wilson2  | Linux (openSUSE 10.3) / x86_64  |  OK  |  OK  |  | 
| wellington  | Linux (openSUSE 10.3) / i686  |  OK  |  OK  |  | 
| liverpool  | Windows Server 2003 R2 (32-bit) / x64  |  OK  |  OK  |  OK  | 
| pelham  | Mac OS X Leopard (10.5.1) / i386  |  OK  |  OK  |  OK  | 
* checking for file 'EBarrays/DESCRIPTION' ... OK
* preparing 'EBarrays':
* checking DESCRIPTION meta-information ... OK
* cleaning src
* installing the package to re-build vignettes
* Installing *source* package 'EBarrays' ...
** libs
gcc -std=gnu99 -I/home/biocbuild/bbs-2.2-bioc/R/include -I/home/biocbuild/bbs-2.2-bioc/R/include  -I/usr/local/include    -fpic  -g -O2 -Wall -c ebarrays.c -o ebarrays.o
gcc -std=gnu99 -shared -L/usr/local/lib64 -o EBarrays.so ebarrays.o   -L/home/biocbuild/bbs-2.2-bioc/R/lib -lR
** R
** data
** demo
** inst
** preparing package for lazy loading
Loading required package: Biobase
Loading required package: tools
Welcome to Bioconductor
  Vignettes contain introductory material. To view, type
  'openVignette()'. To cite Bioconductor, see
  'citation("Biobase")' and for packages 'citation(pkgname)'.
Loading required package: lattice
Loading required package: cluster
** help
Note: ignoring empty \keyword entries
Note: removing empty section \examples
 >>> Building/Updating help pages for package 'EBarrays'
     Formats: text html latex example 
  EBarrays-Internal                 text    html    latex
  crit.fun                          text    html    latex   example
  ebarraysFamily-class              text    html    latex   example
  ebplots                           text    html    latex
  emfit                             text    html    latex   example
  gould                             text    html    latex   example
  postprob                          text    html    latex   example
  utilities                         text    html    latex   example
** building package indices ...
* DONE (EBarrays)
* creating vignettes ... OK
* cleaning src
* removing junk files
* checking for LF line-endings in source and make files
* checking for empty or unneeded directories
* building 'EBarrays_2.3.1.tar.gz'