webbioc 1.12.0 Colin A. Smith
 | Snapshot Date: 2008-08-08 00:12:03 -0700 (Fri, 08 Aug 2008) |  | URL: https://hedgehog.fhcrc.org/bioconductor/branches/RELEASE_2_2/madman/Rpacks/webbioc |  | Last Changed Rev: 31430 / Revision: 33132 |  | Last Changed Date: 2008-04-29 16:50:18 -0700 (Tue, 29 Apr 2008) |  
  | lamb1  | Linux (SUSE 10.1) / x86_64  |  OK  |  OK  |  | 
| wilson2  | Linux (openSUSE 10.3) / x86_64  | [ OK ] |  OK  |  | 
| wellington  | Linux (openSUSE 10.3) / i686  |  OK  |  OK  |  | 
| liverpool  | Windows Server 2003 R2 (32-bit) / x64  |  OK  |  OK  |  OK  | 
| pitt  | Mac OS X Tiger (10.4.11) / i386  |  OK  |  OK  |  OK  | 
* checking for file 'webbioc/DESCRIPTION' ... OK
* preparing 'webbioc':
* checking DESCRIPTION meta-information ... OK
* installing the package to re-build vignettes
* Installing *source* package 'webbioc' ...
** R
** inst
** preparing package for lazy loading
Loading required package: Biobase
Loading required package: tools
Welcome to Bioconductor
  Vignettes contain introductory material. To view, type
  'openVignette()'. To cite Bioconductor, see
  'citation("Biobase")' and for packages 'citation(pkgname)'.
Loading required package: affy
Loading required package: affyio
Loading required package: preprocessCore
Loading required package: multtest
Loading required package: survival
Loading required package: splines
Loading required package: annaffy
Loading required package: GO.db
Loading required package: AnnotationDbi
Loading required package: DBI
Loading required package: RSQLite
Loading required package: KEGG.db
Loading required package: vsn
Loading required package: lattice
Loading required package: limma
Loading required package: gcrma
Loading required package: matchprobes
Loading required package: qvalue
Loading required package: tcltk
Loading Tcl/Tk interface ... done
** help
Note: unmatched right brace in file 'mt.wrapper.Rd' on or after line 84
 >>> Building/Updating help pages for package 'webbioc'
     Formats: text html latex example 
  installReps                       text    html    latex
  mt.wrapper                        text    html    latex
** building package indices ...
* DONE (webbioc)
* creating vignettes ... OK
* removing junk files
* checking for LF line-endings in source and make files
* checking for empty or unneeded directories
* building 'webbioc_1.12.0.tar.gz'