| Back to the "Multiple platform build/check report" |
| Package 49/61 | Hostname | OS / Arch | BUILD | CHECK | BUILD BIN | ||||
| ProData 0.4.1 Xiaochun Li
| lamb1 | Linux (SUSE 10.1) / x86_64 | [ OK ] | WARNINGS | |||||
| liverpool | Windows Server 2003 R2 (32-bit) / x64 | OK | WARNINGS | OK | |||||
| pitt | Mac OS X Tiger (10.4.11) / i386 | OK | WARNINGS | OK |
| Package: ProData |
| Version: 0.4.1 |
| Command: /home/biocbuild/bbs-2.2-bioc/R/bin/R CMD build ProData |
| StartedAt: 2008-10-16 12:55:40 -0700 (Thu, 16 Oct 2008) |
| EndedAt: 2008-10-16 12:55:44 -0700 (Thu, 16 Oct 2008) |
| EllapsedTime: 4.5 seconds |
| RetCode: 0 |
| Status: OK |
| PackageFile: ProData_0.4.1.tar.gz |
| PackageFileSize: 19.05 MiB |
* checking for file 'ProData/DESCRIPTION' ... OK * preparing 'ProData': * checking DESCRIPTION meta-information ... OK * removing junk files * checking for LF line-endings in source and make files * checking for empty or unneeded directories * building 'ProData_0.4.1.tar.gz'