| RefPlus 1.12.1 Kai-Ming Chang
 
 | Bioconductor Changelog |  | Snapshot Date: 2009-04-18 11:27:48 -0700 (Sat, 18 Apr 2009) |  | URL: https://hedgehog.fhcrc.org/bioconductor/branches/RELEASE_2_3/madman/Rpacks/RefPlus |  | Last Changed Rev: 36983 / Revision: 38965 |  | Last Changed Date: 2009-01-27 09:50:55 -0800 (Tue, 27 Jan 2009) | 
 | wilson2 | Linux (openSUSE 11.1) / x86_64 | OK | OK |  | 
| liverpool | Windows Server 2003 R2 (32-bit) / x64 | OK | OK | OK | 
| pitt | Mac OS X Tiger (10.4.11) / i386 | [ OK ] | OK | OK | 
| pelham | Mac OS X Leopard (10.5.6) / i386 | OK | OK | OK | 
* checking for file 'RefPlus/DESCRIPTION' ... OK
* preparing 'RefPlus':
* checking DESCRIPTION meta-information ... OK
* installing the package to re-build vignettes
* Installing *source* package 'RefPlus' ...
** R
** inst
** preparing package for lazy loading
Loading required package: Biobase
Loading required package: tools
Welcome to Bioconductor
  Vignettes contain introductory material. To view, type
  'openVignette()'. To cite Bioconductor, see
  'citation("Biobase")' and for packages 'citation(pkgname)'.
Loading required package: affy
Loading required package: affyPLM
Loading required package: gcrma
Loading required package: matchprobes
Loading required package: splines
Loading required package: preprocessCore
** help
 >>> Building/Updating help pages for package 'RefPlus'
     Formats: text html latex example 
  RefPlus-package                   text    html    latex   example
Note: removing empty section \references in file 'colMedians.Rd'
  colMedians                        text    html    latex   example
  normalize.quantiles2              text    html    latex   example
  rma.para                          text    html    latex   example
  rmaplus                           text    html    latex   example
Note: removing empty section \examples in file 'rmaref.predict.Rd'
  rmaref.predict                    text    html    latex
** building package indices ...
* DONE (RefPlus)
* creating vignettes ... OK
* removing junk files
* checking for LF line-endings in source and make files
* checking for empty or unneeded directories
* building 'RefPlus_1.12.1.tar.gz'