| Back to the "Multiple platform build/check report" | A B C D [E] F G H I J K L M N O P Q R S T U V W X Y Z |
| Package 84/294 | Hostname | OS / Arch | BUILD | CHECK | BUILD BIN | |||||
| exonmap 2.0.03 Crispin Miller
| wilson2 | Linux (openSUSE 11.1) / x86_64 | [ OK ] | OK | ||||||
| liverpool | Windows Server 2003 R2 (32-bit) / x64 | OK | OK | OK | ||||||
| pitt | Mac OS X Tiger (10.4.11) / i386 | OK | OK | OK | ||||||
| pelham | Mac OS X Leopard (10.5.6) / i386 | OK | OK | OK |
| Package: exonmap |
| Version: 2.0.03 |
| Command: /home/biocbuild/bbs-2.3-bioc/R/bin/R CMD build exonmap |
| StartedAt: 2009-04-18 14:04:36 -0700 (Sat, 18 Apr 2009) |
| EndedAt: 2009-04-18 14:04:36 -0700 (Sat, 18 Apr 2009) |
| EllapsedTime: 0.5 seconds |
| RetCode: 0 |
| Status: OK |
| PackageFile: exonmap_2.0.03.tar.gz |
| PackageFileSize: 259.1 KiB |
* checking for file 'exonmap/DESCRIPTION' ... OK * preparing 'exonmap': * checking DESCRIPTION meta-information ... OK * removing junk files * checking for LF line-endings in source and make files * checking for empty or unneeded directories * building 'exonmap_2.0.03.tar.gz'