| Back to the "Multiple platform build/check report" | A B C D E [F] G H I J K L M N O P Q R S T U V W X Y Z |
| Package 93/294 | Hostname | OS / Arch | BUILD | CHECK | BUILD BIN | |||||
| flowUtils 1.2.0 Nishant Gopalakrishnan
| wilson2 | Linux (openSUSE 11.1) / x86_64 | OK | OK | ||||||
| liverpool | Windows Server 2003 R2 (32-bit) / x64 | OK | OK | OK | ||||||
| pitt | Mac OS X Tiger (10.4.11) / i386 | [ OK ] | OK | OK | ||||||
| pelham | Mac OS X Leopard (10.5.6) / i386 | OK | OK | OK |
| Package: flowUtils |
| Version: 1.2.0 |
| Command: /Library/Frameworks/R.framework/Versions/2.8/Resources/bin/R CMD build flowUtils |
| StartedAt: 2009-04-18 14:48:44 -0700 (Sat, 18 Apr 2009) |
| EndedAt: 2009-04-18 14:48:45 -0700 (Sat, 18 Apr 2009) |
| EllapsedTime: 1.8 seconds |
| RetCode: 0 |
| Status: OK |
| PackageFile: flowUtils_1.2.0.tar.gz |
| PackageFileSize: 12.57 KiB |
* checking for file 'flowUtils/DESCRIPTION' ... OK * preparing 'flowUtils': * checking DESCRIPTION meta-information ... OK * removing junk files * checking for LF line-endings in source and make files * checking for empty or unneeded directories * building 'flowUtils_1.2.0.tar.gz'