| Back to the "Multiple platform build/check report" | 
| Package 5/64 | Hostname | OS / Arch | BUILD | CHECK | BUILD BIN | ||||
| AmpAffyExample 1.2.2 Rafael A. Irizarry 
  | wilson2 | Linux (openSUSE 10.3) / x86_64 | [ OK ] | OK | |||||
| liverpool | Windows Server 2003 R2 (32-bit) / x64 | OK | OK | OK | |||||
| pelham | Mac OS X Leopard (10.5.6) / i386 | OK | OK | OK | 
| Package: AmpAffyExample | 
| Version: 1.2.2 | 
| Command: /home/biocbuild/bbs-2.3-bioc/R/bin/R CMD build AmpAffyExample | 
| StartedAt: 2009-04-10 00:59:36 -0700 (Fri, 10 Apr 2009) | 
| EndedAt: 2009-04-10 00:59:40 -0700 (Fri, 10 Apr 2009) | 
| EllapsedTime: 4.0 seconds | 
| RetCode: 0 | 
| Status: OK | 
| PackageFile: AmpAffyExample_1.2.2.tar.gz | 
| PackageFileSize: 6.464 MiB | 
* checking for file 'AmpAffyExample/DESCRIPTION' ... OK * preparing 'AmpAffyExample': * checking DESCRIPTION meta-information ... OK * removing junk files * checking for LF line-endings in source and make files * checking for empty or unneeded directories * building 'AmpAffyExample_1.2.2.tar.gz'