| Back to the "Multiple platform build/check report" |
| Package 56/64 | Hostname | OS / Arch | BUILD | CHECK | BUILD BIN | ||||
| SpikeInSubset 1.2.6 Rafael A. Irizarry
| wilson2 | Linux (openSUSE 10.3) / x86_64 | [ OK ] | OK | |||||
| liverpool | Windows Server 2003 R2 (32-bit) / x64 | OK | OK | OK | |||||
| pelham | Mac OS X Leopard (10.5.6) / i386 | OK | OK | OK |
| Package: SpikeInSubset |
| Version: 1.2.6 |
| Command: /home/biocbuild/bbs-2.3-bioc/R/bin/R CMD build SpikeInSubset |
| StartedAt: 2009-04-10 01:04:56 -0700 (Fri, 10 Apr 2009) |
| EndedAt: 2009-04-10 01:05:01 -0700 (Fri, 10 Apr 2009) |
| EllapsedTime: 5.2 seconds |
| RetCode: 0 |
| Status: OK |
| PackageFile: SpikeInSubset_1.2.6.tar.gz |
| PackageFileSize: 18.01 MiB |
* checking for file 'SpikeInSubset/DESCRIPTION' ... OK * preparing 'SpikeInSubset': * checking DESCRIPTION meta-information ... OK * removing junk files * checking for LF line-endings in source and make files * checking for empty or unneeded directories * building 'SpikeInSubset_1.2.6.tar.gz'