ccTutorial 1.0.2 Joern Toedling
 | Snapshot Date: 2009-04-10 00:03:00 -0700 (Fri, 10 Apr 2009) |  | URL: https://hedgehog.fhcrc.org/bioc-data/trunk/experiment/pkgs/ccTutorial |  | Last Changed Rev: 749 / Revision: 760 |  | Last Changed Date: 2009-02-10 07:02:07 -0800 (Tue, 10 Feb 2009) |  
  | wilson2  | Linux (openSUSE 10.3) / x86_64  |  ERROR  |  skipped  |  | 
| liverpool  | Windows Server 2003 R2 (32-bit) / x64  |  OK  |  OK  | [ OK ] | 
| pelham  | Mac OS X Leopard (10.5.6) / i386  |  OK  |  OK  |  OK  | 
installing R.css in E:/biocbld/bbs-2.3-data-experiment/meat/ccTutorial.buildbin-libdir
Using auto-selected zip options 'ccTutorial-ZIPDATA=zip'
---------- Making package ccTutorial ------------
  adding build stamp to DESCRIPTION
  installing R files
  installing inst files
  installing data files
  preparing package ccTutorial for lazy loading
Loading required package: Ringo
Loading required package: Biobase
Loading required package: tools
Welcome to Bioconductor
  Vignettes contain introductory material. To view, type
  'openVignette()'. To cite Bioconductor, see
  'citation("Biobase")' and for packages 'citation(pkgname)'.
Loading required package: genefilter
Loading required package: survival
Loading required package: splines
Loading required package: geneplotter
Loading required package: lattice
Loading required package: annotate
Loading required package: AnnotationDbi
Loading required package: xtable
KernSmooth 2.22 installed
Copyright M. P. Wand 1997
Attaching package: 'geneplotter'
	The following object(s) are masked from package:lattice :
	 panel.smoothScatter 
Loading required package: limma
Loading required package: vsn
Loading required package: affy
Loading required package: RColorBrewer
Loading required package: SparseM
Attaching package: 'SparseM'
	The following object(s) are masked from package:stats :
	 model.response 
	The following object(s) are masked from package:base :
	 backsolve,
	 chol 
  installing man source files
  installing indices
Loading required package: methods
Loading required package: Biobase
Loading required package: tools
Loading required package: utils
Welcome to Bioconductor
  Vignettes contain introductory material. To view, type
  'openVignette()'. To cite Bioconductor, see
  'citation("Biobase")' and for packages 'citation(pkgname)'.
  zipping data
  installing help
 >>> Building/Updating help pages for package 'ccTutorial'
     Formats: text html latex example chm 
  X                                 text    html    latex   example chm
  arrayGenesToProbeSets             text    html    latex   example chm
  barreraExpressionX                text    html    latex   example chm
  ccTutorial-package                text    html    latex           chm
  chersX                            text    html    latex   example chm
  mm9g2p                            text    html    latex   example chm
  mm9gene2GO                        text    html    latex   example chm
  mm9genes                          text    html    latex   example chm
  probeAnno                         text    html    latex   example chm
Microsoft HTML Help Compiler 4.74.8702
Compiling e:\biocbld\bbs-2.3-data-experiment\meat\R.INSTALL.5544\ccTutorial\chm\ccTutorial.chm
Compile time: 0 minutes, 13 seconds
10	Topics
19	Local links
0	Internet links
1	Graphic
Created e:\biocbld\bbs-2.3-data-experiment\meat\R.INSTALL.5544\ccTutorial\chm\ccTutorial.chm, 22,565 bytes
Compression decreased file by 2,490 bytes.
  adding MD5 sums
packaged installation of package 'ccTutorial' as ccTutorial_1.0.2.zip
* DONE (ccTutorial)