| Back to the "Multiple platform build/check report" |
| Package 25/64 | Hostname | OS / Arch | BUILD | CHECK | BUILD BIN | ||||
| hapmap100khind 1.3 Benilton Carvalho
| wilson2 | Linux (openSUSE 10.3) / x86_64 | [ OK ] | OK | |||||
| liverpool | Windows Server 2003 R2 (32-bit) / x64 | OK | OK | OK | |||||
| pelham | Mac OS X Leopard (10.5.6) / i386 | OK | OK | OK |
| Package: hapmap100khind |
| Version: 1.3 |
| Command: /home/biocbuild/bbs-2.3-bioc/R/bin/R CMD build hapmap100khind |
| StartedAt: 2009-04-10 01:06:42 -0700 (Fri, 10 Apr 2009) |
| EndedAt: 2009-04-10 01:07:52 -0700 (Fri, 10 Apr 2009) |
| EllapsedTime: 70.5 seconds |
| RetCode: 0 |
| Status: OK |
| PackageFile: hapmap100khind_1.3.tar.gz |
| PackageFileSize: 38.04 MiB |
* checking for file 'hapmap100khind/DESCRIPTION' ... OK * preparing 'hapmap100khind': * checking DESCRIPTION meta-information ... OK * removing junk files * checking for LF line-endings in source and make files * checking for empty or unneeded directories * building 'hapmap100khind_1.3.tar.gz'