| Back to the "Multiple platform build/check report" |
| Package 10/65 | Hostname | OS / Arch | BUILD | CHECK | BUILD BIN | ||||
| CLL 1.2.6 Robert Gentleman
| wilson1 | Linux (openSUSE 11.1) / x86_64 | [ OK ] | ERROR | |||||
| liverpool | Windows Server 2003 R2 (32-bit) / x64 | OK | ERROR | ERROR | |||||
| pitt | Mac OS X Tiger (10.4.11) / i386 | OK | ERROR | ERROR | |||||
| pelham | Mac OS X Leopard (10.5.7) / i386 | OK | ERROR | ERROR |
| Package: CLL |
| Version: 1.2.6 |
| Command: /home/biocbuild/bbs-2.4-bioc/R/bin/R CMD build CLL |
| StartedAt: 2009-08-10 01:17:08 -0700 (Mon, 10 Aug 2009) |
| EndedAt: 2009-08-10 01:17:13 -0700 (Mon, 10 Aug 2009) |
| EllapsedTime: 4.5 seconds |
| RetCode: 0 |
| Status: OK |
| PackageFile: CLL_1.2.6.tar.gz |
| PackageFileSize: 22.08 MiB |
* checking for file 'CLL/DESCRIPTION' ... OK * preparing 'CLL': * checking DESCRIPTION meta-information ... OK * removing junk files * checking for LF line-endings in source and make files * checking for empty or unneeded directories * building 'CLL_1.2.6.tar.gz'