| Back to the "Multiple platform build/check report" |
| Package 56/65 | Hostname | OS / Arch | BUILD | CHECK | BUILD BIN | ||||
| SpikeIn 1.4.2 Rafael A. Irizarry
| wilson1 | Linux (openSUSE 11.1) / x86_64 | OK | ERROR | |||||
| liverpool | Windows Server 2003 R2 (32-bit) / x64 | OK | ERROR | ERROR | |||||
| pitt | Mac OS X Tiger (10.4.11) / i386 | [ OK ] | ERROR | ERROR | |||||
| pelham | Mac OS X Leopard (10.5.7) / i386 | OK | ERROR | ERROR |
| Package: SpikeIn |
| Version: 1.4.2 |
| Command: /Library/Frameworks/R.framework/Versions/2.9/Resources/bin/R CMD build SpikeIn |
| StartedAt: 2009-08-10 01:26:53 -0700 (Mon, 10 Aug 2009) |
| EndedAt: 2009-08-10 01:27:22 -0700 (Mon, 10 Aug 2009) |
| EllapsedTime: 28.8 seconds |
| RetCode: 0 |
| Status: OK |
| PackageFile: SpikeIn_1.4.2.tar.gz |
| PackageFileSize: 91.45 MiB |
* checking for file 'SpikeIn/DESCRIPTION' ... OK * preparing 'SpikeIn': * checking DESCRIPTION meta-information ... OK * removing junk files * checking for LF line-endings in source and make files * checking for empty or unneeded directories * building 'SpikeIn_1.4.2.tar.gz'