| Back to the "Multiple platform build/check report" | 
| Package 22/65 | Hostname | OS / Arch | BUILD | CHECK | BUILD BIN | ||||
| gcspikelite 1.0.2 Mark Robinson 
 | wilson1 | Linux (openSUSE 11.1) / x86_64 | OK | WARNINGS | |||||
| liverpool | Windows Server 2003 R2 (32-bit) / x64 | [ OK ] | WARNINGS | OK | |||||
| pitt | Mac OS X Tiger (10.4.11) / i386 | OK | WARNINGS | OK | |||||
| pelham | Mac OS X Leopard (10.5.7) / i386 | OK | WARNINGS | OK | 
| Package: gcspikelite | 
| Version: 1.0.2 | 
| Command: E:\biocbld\bbs-2.4-bioc\R\bin\R.exe CMD build gcspikelite | 
| StartedAt: 2009-08-10 02:18:06 -0700 (Mon, 10 Aug 2009) | 
| EndedAt: 2009-08-10 02:19:12 -0700 (Mon, 10 Aug 2009) | 
| EllapsedTime: 65.3 seconds | 
| RetCode: 0 | 
| Status: OK | 
| PackageFile: gcspikelite_1.0.2.tar.gz | 
| PackageFileSize: 21.6 MiB | 
* checking for file 'gcspikelite/DESCRIPTION' ... OK * preparing 'gcspikelite': * checking DESCRIPTION meta-information ... OK * removing junk files * checking for LF line-endings in source and make files * checking for empty or unneeded directories * building 'gcspikelite_1.0.2.tar.gz'