| Back to the "Multiple platform build/check report" | A B C D E [F] G H I J K L M N O P Q R S T U V W X Y Z |
| Package 120/353 | Hostname | OS / Arch | BUILD | CHECK | BUILD BIN | ||||
| flowUtils 1.6.0 Nishant Gopalakrishnan
| wilson2 | Linux (openSUSE 11.1) / x86_64 | OK | WARNINGS | |||||
| liverpool | Windows Server 2003 R2 (32-bit) / x64 | [ OK ] | WARNINGS | OK | |||||
| pitt | Mac OS X Tiger (10.4.11) / i386 | OK | WARNINGS | OK | |||||
| pelham | Mac OS X Leopard (10.5.8) / i386 | OK | WARNINGS | OK |
| Package: flowUtils |
| Version: 1.6.0 |
| Command: E:\biocbld\bbs-2.5-bioc\R\bin\R.exe CMD build flowUtils |
| StartedAt: 2010-04-03 02:12:55 -0700 (Sat, 03 Apr 2010) |
| EndedAt: 2010-04-03 02:12:58 -0700 (Sat, 03 Apr 2010) |
| EllapsedTime: 2.8 seconds |
| RetCode: 0 |
| Status: OK |
| PackageFile: flowUtils_1.6.0.tar.gz |
| PackageFileSize: 24.06 KiB |
* checking for file 'flowUtils/DESCRIPTION' ... OK * preparing 'flowUtils': * checking DESCRIPTION meta-information ... OK * removing junk files * checking for LF line-endings in source and make files * checking for empty or unneeded directories * building 'flowUtils_1.6.0.tar.gz'