| Back to the "Multiple platform build/check report" |
| Package 46/77 | Hostname | OS / Arch | BUILD | CHECK | BUILD BIN | ||||
| ITALICSData 2.0.1 Guillem Rigaill
| wilson2 | Linux (openSUSE 11.1) / x86_64 | OK | OK | |||||
| pitt | Mac OS X Tiger (10.4.11) / i386 | OK | OK | [ OK ] | |||||
| pelham | Mac OS X Leopard (10.5.8) / i386 | OK | OK | OK |
| Package: ITALICSData |
| Version: 2.0.1 |
| Command: /Users/biocbuild/BBS/utils/build-universal.sh ITALICSData_2.0.1.tar.gz /Library/Frameworks/R.framework/Versions/2.10/Resources/bin/R ITALICSData.buildbin-libdir |
| StartedAt: 2010-04-02 15:33:39 -0700 (Fri, 02 Apr 2010) |
| EndedAt: 2010-04-02 15:38:22 -0700 (Fri, 02 Apr 2010) |
| EllapsedTime: 282.4 seconds |
| RetCode: 0 |
| Status: OK |
| PackageFile: ITALICSData_2.0.1.tgz |
| PackageFileSize: 84.74 MiB |
INSTALLATION WITH 'R CMD INSTALL --preclean --library=ITALICSData.buildbin-libdir ITALICSData_2.0.1.tar.gz'
* installing *source* package ‘ITALICSData’ ...
** data
** help
*** installing help indices
** building package indices ...
* DONE (ITALICSData)