| Back to the "Multiple platform build/check report" |
| Package 28/77 | Hostname | OS / Arch | BUILD | CHECK | BUILD BIN | ||||
| golubEsets 1.4.7 Vince Carey
| wilson2 | Linux (openSUSE 11.1) / x86_64 | [ OK ] | OK | |||||
| pitt | Mac OS X Tiger (10.4.11) / i386 | OK | OK | OK | |||||
| pelham | Mac OS X Leopard (10.5.8) / i386 | OK | OK | OK |
| Package: golubEsets |
| Version: 1.4.7 |
| Command: /home/biocbuild/bbs-2.5-bioc/R/bin/R CMD build golubEsets |
| StartedAt: 2010-04-02 13:23:46 -0700 (Fri, 02 Apr 2010) |
| EndedAt: 2010-04-02 13:23:49 -0700 (Fri, 02 Apr 2010) |
| EllapsedTime: 2.5 seconds |
| RetCode: 0 |
| Status: OK |
| PackageFile: golubEsets_1.4.7.tar.gz |
| PackageFileSize: 7.995 MiB |
* checking for file 'golubEsets/DESCRIPTION' ... OK * preparing 'golubEsets': * checking DESCRIPTION meta-information ... OK * removing junk files * checking for LF line-endings in source and make files * checking for empty or unneeded directories * building 'golubEsets_1.4.7.tar.gz'