| Back to the "Multiple platform build/check report" |
| Package 34/77 | Hostname | OS / Arch | BUILD | CHECK | BUILD BIN | ||||
| hapmapsnp6 1.3.3 Benilton Carvalho
| wilson2 | Linux (openSUSE 11.1) / x86_64 | OK | OK | |||||
| pitt | Mac OS X Tiger (10.4.11) / i386 | OK | OK | OK | |||||
| pelham | Mac OS X Leopard (10.5.8) / i386 | OK | OK | [ OK ] |
| Package: hapmapsnp6 |
| Version: 1.3.3 |
| Command: /Users/biocbuild/BBS/utils/build-universal.sh hapmapsnp6_1.3.3.tar.gz /Library/Frameworks/R.framework/Versions/2.10/Resources/bin/R hapmapsnp6.buildbin-libdir |
| StartedAt: 2010-04-02 15:31:40 -0700 (Fri, 02 Apr 2010) |
| EndedAt: 2010-04-02 15:33:56 -0700 (Fri, 02 Apr 2010) |
| EllapsedTime: 136.5 seconds |
| RetCode: 0 |
| Status: OK |
| PackageFile: hapmapsnp6_1.3.3.tgz |
| PackageFileSize: 83.81 MiB |
INSTALLATION WITH 'R CMD INSTALL --preclean --library=hapmapsnp6.buildbin-libdir hapmapsnp6_1.3.3.tar.gz'
* installing *source* package ‘hapmapsnp6’ ...
** R
** inst
** preparing package for lazy loading
** help
*** installing help indices
** building package indices ...
* DONE (hapmapsnp6)