| Back to the "Multiple platform build/check report" | A B C D E [F] G H I J K L M N O P Q R S T U V W X Y Z |
| Package 141/419 | Hostname | OS / Arch | BUILD | CHECK | BUILD BIN | ||||
| flowUtils 1.10.0 Nishant Gopalakrishnan
| lamb2 | Linux (openSUSE 11.2) / x86_64 | [ OK ] | OK | |||||
| liverpool | Windows Server 2003 R2 (32-bit) / x64 | OK | OK | OK | |||||
| gewurz | Windows Server 2008 R2 Enterprise (64-bit) / x64 | OK | OK | OK |
| Package: flowUtils |
| Version: 1.10.0 |
| Command: /home/biocbuild/bbs-2.7-bioc/R/bin/R CMD build flowUtils |
| StartedAt: 2011-04-07 02:17:52 -0700 (Thu, 07 Apr 2011) |
| EndedAt: 2011-04-07 02:17:53 -0700 (Thu, 07 Apr 2011) |
| EllapsedTime: 0.5 seconds |
| RetCode: 0 |
| Status: OK |
| PackageFile: flowUtils_1.10.0.tar.gz |
| PackageFileSize: 24.94 KiB |
* checking for file ‘flowUtils/DESCRIPTION’ ... OK * preparing ‘flowUtils’: * checking DESCRIPTION meta-information ... OK * checking for LF line-endings in source and make files * checking for empty or unneeded directories * building ‘flowUtils_1.10.0.tar.gz’