| Back to the "Multiple platform build/check report" |
| Package 1/92 | Hostname | OS / Arch | BUILD | CHECK | BUILD BIN | ||||
| affycompData 0.99.0 Harris Jaffee
| lamb2 | Linux (openSUSE 11.2) / x86_64 | [ OK ] | ERROR | |||||
| gewurz | Windows Server 2008 R2 Enterprise (64-bit) / x64 | OK | ERROR | ERROR | |||||
| petty | Mac OS X Snow Leopard (10.6.6) / i386 | OK | ERROR | ERROR |
| Package: affycompData |
| Version: 0.99.0 |
| Command: /home/biocbuild/bbs-2.7-bioc/R/bin/R CMD build affycompData |
| StartedAt: 2011-04-06 14:03:26 -0700 (Wed, 06 Apr 2011) |
| EndedAt: 2011-04-06 14:03:34 -0700 (Wed, 06 Apr 2011) |
| EllapsedTime: 8.5 seconds |
| RetCode: 0 |
| Status: OK |
| PackageFile: affycompData_0.99.0.tar.gz |
| PackageFileSize: 53.47 MiB |
* checking for file ‘affycompData/DESCRIPTION’ ... OK * preparing ‘affycompData’: * checking DESCRIPTION meta-information ... OK * checking for LF line-endings in source and make files * checking for empty or unneeded directories * building ‘affycompData_0.99.0.tar.gz’