| harbChIP 1.0.5 VJ Carey
 
 | Snapshot Date: 2011-04-06 12:27:26 -0700 (Wed, 06 Apr 2011) |  | URL: https://hedgehog.fhcrc.org/bioc-data/trunk/experiment/pkgs/harbChIP |  | Last Changed Rev: 1209 / Revision: 1510 |  | Last Changed Date: 2010-04-11 09:43:18 -0700 (Sun, 11 Apr 2010) | 
 | lamb2 | Linux (openSUSE 11.2) / x86_64 | OK | OK |  | 
| gewurz | Windows Server 2008 R2 Enterprise (64-bit) / x64 | OK | OK | OK | 
| petty | Mac OS X Snow Leopard (10.6.6) / i386 | OK | OK | [ OK ] | 
>>>>>>> 
>>>>>>> INSTALLATION WITH 'R CMD INSTALL --preclean --library=harbChIP.buildbin-libdir harbChIP_1.0.5.tar.gz'
>>>>>>> 
* installing *source* package 'harbChIP' ...
** R
** data
** inst
** preparing package for lazy loading
Attaching package: 'IRanges'
The following object(s) are masked from 'package:base':
    Map, cbind, eval, mapply, order, paste, pmax, pmax.int, pmin,
    pmin.int, rbind, rep.int, table
Welcome to Bioconductor
  Vignettes contain introductory material. To view, type
  'openVignette()'. To cite Bioconductor, see
  'citation("Biobase")' and for packages 'citation(pkgname)'.
Attaching package: 'Biobase'
The following object(s) are masked from 'package:IRanges':
    updateObject
** help
*** installing help indices
** building package indices ...
** testing if installed package can be loaded
* DONE (harbChIP)