ArrayExpress 1.12.1 Audrey Kauffmann
| Snapshot Date: 2011-10-20 07:20:33 -0700 (Thu, 20 Oct 2011) | | URL: https://hedgehog.fhcrc.org/bioconductor/branches/RELEASE_2_8/madman/Rpacks/ArrayExpress | | Last Changed Rev: 58517 / Revision: 59457 | | Last Changed Date: 2011-09-28 06:52:46 -0700 (Wed, 28 Sep 2011) |
| lamb1 | Linux (openSUSE 11.3) / x86_64 | [ TIMEOUT ] | skipped | |
| liverpool | Windows Server 2003 R2 (32-bit) / x64 | ERROR | skipped | skipped |
| gewurz | Windows Server 2008 R2 Enterprise SP1 (64-bit) / x64 | OK | WARNINGS | OK |
| pelham | Mac OS X Leopard (10.5.8) / i386 | ERROR | skipped | skipped |