| AffymetrixDataTestFiles 0.1.2 Henrik Bengtsson
 
 | Snapshot Date: 2010-11-12 00:25:07 -0800 (Fri, 12 Nov 2010) |  | URL: https://hedgehog.fhcrc.org/bioc-data/trunk/experiment/pkgs/AffymetrixDataTestFiles |  | Last Changed Rev: 959 / Revision: 1384 |  | Last Changed Date: 2009-09-10 11:19:18 -0700 (Thu, 10 Sep 2009) | 
 | lamb1 | Linux (openSUSE 11.3) / x86_64 | OK | OK |  | 
| liverpool | Windows Server 2003 R2 (32-bit) / x64 | OK | OK | [ OK ] | 
| pelham | Mac OS X Leopard (10.5.8) / i386 | OK | OK | OK | 
* installing *source* package 'AffymetrixDataTestFiles' ...
** R
** inst
** preparing package for lazy loading
** help
*** installing help indices
** building package indices ...
** testing if installed package can be loaded
* MD5 sums
packaged installation of 'AffymetrixDataTestFiles' as AffymetrixDataTestFiles_0.1.2.zip
* DONE (AffymetrixDataTestFiles)