| Back to the "Multiple platform build/check report" |
| Package 66/106 | Hostname | OS / Arch | BUILD | CHECK | BUILD BIN | ||||
| ITALICSData 2.0.2 Guillem Rigaill
| lamb1 | Linux (openSUSE 11.3) / x86_64 | OK | OK | |||||
| gewurz | Windows Server 2008 R2 Enterprise SP1 (64-bit) / x64 | OK | OK | [ OK ] | |||||
| pelham | Mac OS X Leopard (10.5.8) / i386 | OK | OK | OK |
| Package: ITALICSData |
| Version: 2.0.2 |
| Command: rm -rf ITALICSData.buildbin-libdir && mkdir ITALICSData.buildbin-libdir && D:\biocbld\bbs-2.8-bioc\R\bin\R.exe CMD INSTALL --build --no-multiarch --library=ITALICSData.buildbin-libdir ITALICSData_2.0.2.tar.gz |
| StartedAt: 2011-10-19 04:00:53 -0700 (Wed, 19 Oct 2011) |
| EndedAt: 2011-10-19 04:03:35 -0700 (Wed, 19 Oct 2011) |
| EllapsedTime: 162.1 seconds |
| RetCode: 0 |
| Status: OK |
| PackageFile: ITALICSData_2.0.2.zip |
| PackageFileSize: 83.51 MiB |
* installing *source* package 'ITALICSData' ... ** data ** inst ** help *** installing help indices ** building package indices ... ** testing if installed package can be loaded * MD5 sums packaged installation of 'ITALICSData' as ITALICSData_2.0.2.zip * DONE (ITALICSData)