| SpikeInSubset 1.2.8 Rafael A. Irizarry
 
 | Snapshot Date: 2011-07-02 23:15:14 -0700 (Sat, 02 Jul 2011) |  | URL: https://hedgehog.fhcrc.org/bioc-data/trunk/experiment/pkgs/SpikeInSubset |  | Last Changed Rev: 930 / Revision: 1676 |  | Last Changed Date: 2009-07-24 19:13:55 -0700 (Fri, 24 Jul 2009) | 
 | lamb1 | Linux (openSUSE 11.3) / x86_64 | OK | WARNINGS |  | 
| gewurz | Windows Server 2008 R2 Enterprise (64-bit) / x64 | OK | WARNINGS | OK | 
| petty | Mac OS X Snow Leopard (10.6.7) / i386 | OK | WARNINGS | [ OK ] | 
>>>>>>> 
>>>>>>> INSTALLATION WITH 'R CMD INSTALL --preclean --library=SpikeInSubset.buildbin-libdir SpikeInSubset_1.2.8.tar.gz'
>>>>>>> 
* installing *source* package 'SpikeInSubset' ...
** R
** data
** preparing package for lazy loading
Welcome to Bioconductor
  Vignettes contain introductory material. To view, type
  'browseVignettes()'. To cite Bioconductor, see
  'citation("Biobase")' and for packages 'citation("pkgname")'.
** help
Warning: /private/tmp/RtmpM1fvXQ/R.INSTALL23aae918/SpikeInSubset/man/xhyb.Rd: docType 'instance' is unrecognized
*** installing help indices
** building package indices ...
** testing if installed package can be loaded
* DONE (SpikeInSubset)