| davidTiling 1.2.12 Wolfgang Huber
 
 | Snapshot Date: 2011-10-18 23:15:16 -0700 (Tue, 18 Oct 2011) |  | URL: https://hedgehog.fhcrc.org/bioc-data/trunk/experiment/pkgs/davidTiling |  | Last Changed Rev: 1042 / Revision: 1763 |  | Last Changed Date: 2009-10-13 18:35:32 -0700 (Tue, 13 Oct 2009) | 
 | lamb1 | Linux (openSUSE 11.3) / x86_64 | OK | WARNINGS |  | 
| gewurz | Windows Server 2008 R2 Enterprise SP1 (64-bit) / x64 | OK | WARNINGS | OK | 
| pelham | Mac OS X Leopard (10.5.8) / i386 | OK | WARNINGS | [ OK ] | 
>>>>>>> 
>>>>>>> INSTALLATION WITH 'R CMD INSTALL --preclean --library=davidTiling.buildbin-libdir davidTiling_1.2.12.tar.gz'
>>>>>>> 
* installing *source* package 'davidTiling' ...
** R
** data
** inst
** preparing package for lazy loading
** help
*** installing help indices
** building package indices ...
** testing if installed package can be loaded
* DONE (davidTiling)