| frmaExampleData 0.99.0 Matthew N. McCall
 
 | Snapshot Date: 2011-10-18 23:15:16 -0700 (Tue, 18 Oct 2011) |  | URL: https://hedgehog.fhcrc.org/bioc-data/trunk/experiment/pkgs/frmaExampleData |  | Last Changed Rev: 1134 / Revision: 1763 |  | Last Changed Date: 2010-02-03 13:37:59 -0800 (Wed, 03 Feb 2010) | 
 | lamb1 | Linux (openSUSE 11.3) / x86_64 | OK | OK |  | 
| gewurz | Windows Server 2008 R2 Enterprise SP1 (64-bit) / x64 | OK | OK | OK | 
| pelham | Mac OS X Leopard (10.5.8) / i386 | [ OK ] | OK | OK | 
* checking for file 'frmaExampleData/DESCRIPTION' ... OK
* preparing 'frmaExampleData':
* checking DESCRIPTION meta-information ... OK
* checking for LF line-endings in source and make files
* checking for empty or unneeded directories
* looking to see if a 'data/datalist' file should be added
* building 'frmaExampleData_0.99.0.tar.gz'