| gatingMLData 1.0.2 Nishant Gopalakrishnan
 
 | Snapshot Date: 2011-10-18 23:15:16 -0700 (Tue, 18 Oct 2011) |  | URL: https://hedgehog.fhcrc.org/bioc-data/trunk/experiment/pkgs/gatingMLData |  | Last Changed Rev: 792 / Revision: 1763 |  | Last Changed Date: 2009-05-11 11:47:30 -0700 (Mon, 11 May 2009) | 
 | lamb1 | Linux (openSUSE 11.3) / x86_64 | OK | OK |  | 
| gewurz | Windows Server 2008 R2 Enterprise SP1 (64-bit) / x64 | OK | OK | OK | 
| pelham | Mac OS X Leopard (10.5.8) / i386 | OK | OK | [ OK ] | 
>>>>>>> 
>>>>>>> INSTALLATION WITH 'R CMD INSTALL --preclean --library=gatingMLData.buildbin-libdir gatingMLData_1.0.2.tar.gz'
>>>>>>> 
* installing *source* package 'gatingMLData' ...
** R
** inst
** preparing package for lazy loading
** help
*** installing help indices
** building package indices ...
** testing if installed package can be loaded
* DONE (gatingMLData)