| gcspikelite 1.0.4 Mark Robinson
 
 | Snapshot Date: 2011-10-18 23:15:16 -0700 (Tue, 18 Oct 2011) |  | URL: https://hedgehog.fhcrc.org/bioc-data/trunk/experiment/pkgs/gcspikelite |  | Last Changed Rev: 1368 / Revision: 1763 |  | Last Changed Date: 2010-10-16 09:36:58 -0700 (Sat, 16 Oct 2010) | 
 | lamb1 | Linux (openSUSE 11.3) / x86_64 | OK | WARNINGS |  | 
| gewurz | Windows Server 2008 R2 Enterprise SP1 (64-bit) / x64 | OK | WARNINGS | [ OK ] | 
| pelham | Mac OS X Leopard (10.5.8) / i386 | OK | WARNINGS | OK | 
* installing *source* package 'gcspikelite' ...
** R
** data
** preparing package for lazy loading
** help
*** installing help indices
** building package indices ...
** testing if installed package can be loaded
* MD5 sums
packaged installation of 'gcspikelite' as gcspikelite_1.0.4.zip
* DONE (gcspikelite)