| hapmap100khind 1.3.32 Benilton Carvalho
 
 | Snapshot Date: 2011-10-18 23:15:16 -0700 (Tue, 18 Oct 2011) |  | URL: https://hedgehog.fhcrc.org/bioc-data/trunk/experiment/pkgs/hapmap100khind |  | Last Changed Rev: 1037 / Revision: 1763 |  | Last Changed Date: 2009-10-12 11:58:09 -0700 (Mon, 12 Oct 2009) | 
 | lamb1 | Linux (openSUSE 11.3) / x86_64 | OK | OK |  | 
| gewurz | Windows Server 2008 R2 Enterprise SP1 (64-bit) / x64 | OK | OK | OK | 
| pelham | Mac OS X Leopard (10.5.8) / i386 | OK | OK | [ OK ] | 
>>>>>>> 
>>>>>>> INSTALLATION WITH 'R CMD INSTALL --preclean --library=hapmap100khind.buildbin-libdir hapmap100khind_1.3.32.tar.gz'
>>>>>>> 
* installing *source* package 'hapmap100khind' ...
** R
** inst
** preparing package for lazy loading
** help
*** installing help indices
** building package indices ...
** testing if installed package can be loaded
/-------------------------------------------\
|         SAMPLE HAPMAP 100K HIND           |
|-------------------------------------------|
| Data obtained from http://www.hapmap.org  |
| This package is meant to be used only for |
| demonstration of BioConductor packages.   |
| Access http://www.hapmap.org for details. |
|-------------------------------------------|
| The contents of this package are provided |
| in good faith and the maintainer does not |
| warrant their accuracy.                   |
\-------------------------------------------/
* DONE (hapmap100khind)