| Back to the "Multiple platform build/check report" |
| Package 45/98 | Hostname | OS / Arch | BUILD | CHECK | BUILD BIN | ||||
| hapmap100kxba 1.3.3 Benilton Carvalho
| lamb1 | Linux (openSUSE 11.3) / x86_64 | OK | OK | |||||
| gewurz | Windows Server 2008 R2 Enterprise (64-bit) / x64 | OK | OK | OK | |||||
| petty | Mac OS X Snow Leopard (10.6.7) / i386 | [ OK ] | OK | OK |
| Package: hapmap100kxba |
| Version: 1.3.3 |
| Command: /Library/Frameworks/R.framework/Versions/2.13/Resources/bin/R CMD build --keep-empty-dirs --no-resave-data hapmap100kxba |
| StartedAt: 2011-07-03 00:24:37 -0700 (Sun, 03 Jul 2011) |
| EndedAt: 2011-07-03 00:25:02 -0700 (Sun, 03 Jul 2011) |
| EllapsedTime: 25.4 seconds |
| RetCode: 0 |
| Status: OK |
| PackageFile: hapmap100kxba_1.3.3.tar.gz |
| PackageFileSize: 39.61 MiB |
* checking for file 'hapmap100kxba/DESCRIPTION' ... OK * preparing 'hapmap100kxba': * checking DESCRIPTION meta-information ... OK * checking for LF line-endings in source and make files * checking for empty or unneeded directories * building 'hapmap100kxba_1.3.3.tar.gz'