| hapmapsnp6 1.3.3 Benilton Carvalho
 
 | Snapshot Date: 2011-10-18 23:15:16 -0700 (Tue, 18 Oct 2011) |  | URL: https://hedgehog.fhcrc.org/bioc-data/trunk/experiment/pkgs/hapmapsnp6 |  | Last Changed Rev: 1029 / Revision: 1763 |  | Last Changed Date: 2009-10-06 16:53:25 -0700 (Tue, 06 Oct 2009) | 
 | lamb1 | Linux (openSUSE 11.3) / x86_64 | OK | OK |  | 
| gewurz | Windows Server 2008 R2 Enterprise SP1 (64-bit) / x64 | OK | OK | [ OK ] | 
| pelham | Mac OS X Leopard (10.5.8) / i386 | OK | OK | OK | 
* installing *source* package 'hapmapsnp6' ...
** R
** inst
** preparing package for lazy loading
** help
*** installing help indices
** building package indices ...
** testing if installed package can be loaded
/-------------------------------------------\
|         SAMPLE HAPMAP SNP 6.0             |
|-------------------------------------------|
| Data obtained from http://www.hapmap.org  |
| This package is meant to be used only for |
| demonstration of BioConductor packages.   |
| Access http://www.hapmap.org for details. |
|-------------------------------------------|
| The contents of this package are provided |
| in good faith and the maintainer does not |
| warrant their accuracy.                   |
\-------------------------------------------/
* MD5 sums
packaged installation of 'hapmapsnp6' as hapmapsnp6_1.3.3.zip
* DONE (hapmapsnp6)