| Back to the "Multiple platform build/check report" |
| Package 72/106 | Hostname | OS / Arch | BUILD | CHECK | BUILD BIN | ||||
| lungExpression 0.0.10 Robert Scharpf
| lamb1 | Linux (openSUSE 11.3) / x86_64 | OK | OK | |||||
| gewurz | Windows Server 2008 R2 Enterprise SP1 (64-bit) / x64 | OK | OK | [ OK ] | |||||
| pelham | Mac OS X Leopard (10.5.8) / i386 | OK | OK | OK |
| Package: lungExpression |
| Version: 0.0.10 |
| Command: rm -rf lungExpression.buildbin-libdir && mkdir lungExpression.buildbin-libdir && D:\biocbld\bbs-2.8-bioc\R\bin\R.exe CMD INSTALL --build --no-multiarch --library=lungExpression.buildbin-libdir lungExpression_0.0.10.tar.gz |
| StartedAt: 2011-10-19 04:02:50 -0700 (Wed, 19 Oct 2011) |
| EndedAt: 2011-10-19 04:02:54 -0700 (Wed, 19 Oct 2011) |
| EllapsedTime: 4.6 seconds |
| RetCode: 0 |
| Status: OK |
| PackageFile: lungExpression_0.0.10.zip |
| PackageFileSize: 5.69 MiB |
* installing *source* package 'lungExpression' ... ** data ** help *** installing help indices ** building package indices ... ** testing if installed package can be loaded * MD5 sums packaged installation of 'lungExpression' as lungExpression_0.0.10.zip * DONE (lungExpression)